BEGIN:VCALENDAR
VERSION:2.0
PRODID:-//WIS Salzgitter - ECPv6.15.20//NONSGML v1.0//EN
CALSCALE:GREGORIAN
METHOD:PUBLISH
X-ORIGINAL-URL:https://www.wis-salzgitter.de
X-WR-CALDESC:Veranstaltungen für WIS Salzgitter
REFRESH-INTERVAL;VALUE=DURATION:PT1H
X-Robots-Tag:noindex
X-PUBLISHED-TTL:PT1H
BEGIN:VTIMEZONE
TZID:Europe/Berlin
BEGIN:DAYLIGHT
TZOFFSETFROM:+0100
TZOFFSETTO:+0200
TZNAME:CEST
DTSTART:20240331T010000
END:DAYLIGHT
BEGIN:STANDARD
TZOFFSETFROM:+0200
TZOFFSETTO:+0100
TZNAME:CET
DTSTART:20241027T010000
END:STANDARD
BEGIN:DAYLIGHT
TZOFFSETFROM:+0100
TZOFFSETTO:+0200
TZNAME:CEST
DTSTART:20250330T010000
END:DAYLIGHT
BEGIN:STANDARD
TZOFFSETFROM:+0200
TZOFFSETTO:+0100
TZNAME:CET
DTSTART:20251026T010000
END:STANDARD
BEGIN:DAYLIGHT
TZOFFSETFROM:+0100
TZOFFSETTO:+0200
TZNAME:CEST
DTSTART:20260329T010000
END:DAYLIGHT
BEGIN:STANDARD
TZOFFSETFROM:+0200
TZOFFSETTO:+0100
TZNAME:CET
DTSTART:20261025T010000
END:STANDARD
END:VTIMEZONE
BEGIN:VEVENT
DTSTART;TZID=Europe/Berlin:20250416T100000
DTEND;TZID=Europe/Berlin:20250416T110000
DTSTAMP:20260422T115521
CREATED:20250402T122627Z
LAST-MODIFIED:20250402T122925Z
UID:5770-1744797600-1744801200@www.wis-salzgitter.de
SUMMARY:Webinar „Barrierefreiheit für touristische Webseiten“
DESCRIPTION:TN-Webinar „Barrierefreiheit für touristische Webseiten“ am 16. April.\n\n\n\n\n\n\n\n\n\n\n­\n\n\nAb Juni gilt sie: die Pflicht Websites barrierefrei zugänglich zu machen. Doch da nach aktuellen Daten 93 Prozent der touristischen Websites noch signifikante Barrieren aufweisen und weniger als 0\,5 Prozent über eine vorgeschriebene Barrierefreiheitserklärung verfügen\, laden wir gemeinsam mit AccessGO\, einer neuen Marke der Deutsche Gesellschaft für Barrierefreiheit mbH (DGfB)\, am 16. April zum nächsten TN-Deutschland Webinar ein. Die Software-Lösung AccessGO ist das neueste Produkt der einstigen Köpfe hinter bookingkit. Gründer und Geschäftsführer Matthias Wirz wird in dem 60-minütigen Webinar vorstellen\, wer genau vom Barrierefreiheitsstärkungsgesetz (BFSG) betroffen ist und was konkret gefordert wird\, was digitale Barrierefreiheit genau für Destinationen bedeutet und was die sieben häufigsten Stolpersteine auf Tourismus-Webseiten sind. Auch wird beantwortet\, wie man seine Website kostengünstig optimieren\, Barrieren aufdecken und Erklärungen automatisiert generieren kann. Im Anschluss haben Teilnehmer wie immer die Möglichkeit\, ihre Fragen direkt an den Experten zu stellen. Das Webinar ist kostenfrei. Infos & Anmeldung
URL:https://www.wis-salzgitter.de/veranstaltung/webinar-barrierefreiheit-fuer-touristische-webseiten/
LOCATION:digital
END:VEVENT
END:VCALENDAR