BEGIN:VCALENDAR
VERSION:2.0
PRODID:-//WIS Salzgitter - ECPv6.15.20//NONSGML v1.0//EN
CALSCALE:GREGORIAN
METHOD:PUBLISH
X-WR-CALNAME:WIS Salzgitter
X-ORIGINAL-URL:https://www.wis-salzgitter.de
X-WR-CALDESC:Veranstaltungen für WIS Salzgitter
REFRESH-INTERVAL;VALUE=DURATION:PT1H
X-Robots-Tag:noindex
X-PUBLISHED-TTL:PT1H
BEGIN:VTIMEZONE
TZID:Europe/Berlin
BEGIN:DAYLIGHT
TZOFFSETFROM:+0100
TZOFFSETTO:+0200
TZNAME:CEST
DTSTART:20220327T010000
END:DAYLIGHT
BEGIN:STANDARD
TZOFFSETFROM:+0200
TZOFFSETTO:+0100
TZNAME:CET
DTSTART:20221030T010000
END:STANDARD
BEGIN:DAYLIGHT
TZOFFSETFROM:+0100
TZOFFSETTO:+0200
TZNAME:CEST
DTSTART:20230326T010000
END:DAYLIGHT
BEGIN:STANDARD
TZOFFSETFROM:+0200
TZOFFSETTO:+0100
TZNAME:CET
DTSTART:20231029T010000
END:STANDARD
BEGIN:DAYLIGHT
TZOFFSETFROM:+0100
TZOFFSETTO:+0200
TZNAME:CEST
DTSTART:20240331T010000
END:DAYLIGHT
BEGIN:STANDARD
TZOFFSETFROM:+0200
TZOFFSETTO:+0100
TZNAME:CET
DTSTART:20241027T010000
END:STANDARD
END:VTIMEZONE
BEGIN:VEVENT
DTSTART;TZID=Europe/Berlin:20230201T150000
DTEND;TZID=Europe/Berlin:20230201T170000
DTSTAMP:20260422T002118
CREATED:20220505T083243Z
LAST-MODIFIED:20230112T094004Z
UID:1205-1675263600-1675270800@www.wis-salzgitter.de
SUMMARY:Gründung
DESCRIPTION:Seminarreihe zu den Themen Existenzgrünung und Unternehmensnachfolge. \n  \nMehr unter: https://www.gruenden-in-salzgitter.de
URL:https://www.wis-salzgitter.de/veranstaltung/gruendung_220617/
LOCATION:Peak Hotel\, Burgbergstraße 147\, Salzgitter\, 38228\, Deutschland
CATEGORIES:Gründung
ATTACH;FMTTYPE=image/jpeg:https://www.wis-salzgitter.de/wp-content/uploads/schlottinnen.jpg
END:VEVENT
END:VCALENDAR