BEGIN:VCALENDAR
VERSION:2.0
PRODID:-//WIS Salzgitter - ECPv6.15.20//NONSGML v1.0//EN
CALSCALE:GREGORIAN
METHOD:PUBLISH
X-ORIGINAL-URL:https://www.wis-salzgitter.de
X-WR-CALDESC:Veranstaltungen für WIS Salzgitter
REFRESH-INTERVAL;VALUE=DURATION:PT1H
X-Robots-Tag:noindex
X-PUBLISHED-TTL:PT1H
BEGIN:VTIMEZONE
TZID:Europe/Berlin
BEGIN:DAYLIGHT
TZOFFSETFROM:+0100
TZOFFSETTO:+0200
TZNAME:CEST
DTSTART:20210328T010000
END:DAYLIGHT
BEGIN:STANDARD
TZOFFSETFROM:+0200
TZOFFSETTO:+0100
TZNAME:CET
DTSTART:20211031T010000
END:STANDARD
BEGIN:DAYLIGHT
TZOFFSETFROM:+0100
TZOFFSETTO:+0200
TZNAME:CEST
DTSTART:20220327T010000
END:DAYLIGHT
BEGIN:STANDARD
TZOFFSETFROM:+0200
TZOFFSETTO:+0100
TZNAME:CET
DTSTART:20221030T010000
END:STANDARD
BEGIN:DAYLIGHT
TZOFFSETFROM:+0100
TZOFFSETTO:+0200
TZNAME:CEST
DTSTART:20230326T010000
END:DAYLIGHT
BEGIN:STANDARD
TZOFFSETFROM:+0200
TZOFFSETTO:+0100
TZNAME:CET
DTSTART:20231029T010000
END:STANDARD
END:VTIMEZONE
BEGIN:VEVENT
DTSTART;TZID=Europe/Berlin:20221224T230000
DTEND;TZID=Europe/Berlin:20221231T235900
DTSTAMP:20260422T020356
CREATED:20220505T084111Z
LAST-MODIFIED:20230112T103027Z
UID:1214-1671922800-1672531140@www.wis-salzgitter.de
SUMMARY:Steuertipps für Existenzgründer
DESCRIPTION:Seminarreihe zu den Themen Existenzgründung und Steuer \nMehr unter: https://www.gruenden-in-salzgitter.de
URL:https://www.wis-salzgitter.de/veranstaltung/steuertipps-fuer-existenzgruender/
LOCATION:Peak Hotel\, Burgbergstraße 147\, Salzgitter\, 38228\, Deutschland
CATEGORIES:Gründung
ATTACH;FMTTYPE=image/jpeg:https://www.wis-salzgitter.de/wp-content/uploads/schlottinnen.jpg
END:VEVENT
END:VCALENDAR